BEGIN:VCALENDAR
VERSION:2.0
PRODID:-//UVL3 - ECPv6.15.20//NONSGML v1.0//EN
CALSCALE:GREGORIAN
METHOD:PUBLISH
X-ORIGINAL-URL:https://uvl3.com
X-WR-CALDESC:Events for UVL3
REFRESH-INTERVAL;VALUE=DURATION:PT1H
X-Robots-Tag:noindex
X-PUBLISHED-TTL:PT1H
BEGIN:VTIMEZONE
TZID:Asia/Taipei
BEGIN:STANDARD
TZOFFSETFROM:+0800
TZOFFSETTO:+0800
TZNAME:CST
DTSTART:20250101T000000
END:STANDARD
END:VTIMEZONE
BEGIN:VEVENT
DTSTART;TZID=Asia/Taipei:20260207T090000
DTEND;TZID=Asia/Taipei:20260401T040000
DTSTAMP:20260423T203256
CREATED:20260326T120356Z
LAST-MODIFIED:20260329T034703Z
UID:834-1770454800-1775016000@uvl3.com
SUMMARY:事前預約獎勵
DESCRIPTION:事前預約獎勵\n\n\n\n 	事前預約武器選擇箱\n \n 	事前預約防具\n \n 	事前預約戒指箱\n \n 	消耗品袋子選擇箱
URL:https://uvl3.com/event/%e4%ba%8b%e5%89%8d%e9%a0%90%e7%b4%84%e7%8d%8e%e5%8b%b5/
CATEGORIES:經典版
END:VEVENT
BEGIN:VEVENT
DTSTART;TZID=Asia/Taipei:20260207T090000
DTEND;TZID=Asia/Taipei:20261231T040000
DTSTAMP:20260423T203256
CREATED:20260326T120238Z
LAST-MODIFIED:20260329T034656Z
UID:831-1770454800-1798689600@uvl3.com
SUMMARY:網咖優質優惠
DESCRIPTION:網咖優質優惠\n\n\n\n 	畢克斯的沙漏\n \n 	畢克斯的羽毛\n \n 	網咖專用地監
URL:https://uvl3.com/event/%e7%b6%b2%e5%92%96%e5%84%aa%e8%b3%aa%e5%84%aa%e6%83%a0/
CATEGORIES:經典版
END:VEVENT
BEGIN:VEVENT
DTSTART;TZID=Asia/Taipei:20260207T190000
DTEND;TZID=Asia/Taipei:20260331T040000
DTSTAMP:20260423T203256
CREATED:20260326T121406Z
LAST-MODIFIED:20260329T034649Z
UID:858-1770490800-1774929600@uvl3.com
SUMMARY:上市紀念使用券儲值回饋
DESCRIPTION:上市紀念使用券儲值回饋 \n\nMycard 10%優惠券
URL:https://uvl3.com/event/%e4%b8%8a%e5%b8%82%e7%b4%80%e5%bf%b5%e4%bd%bf%e7%94%a8%e5%88%b8%e5%84%b2%e5%80%bc%e5%9b%9e%e9%a5%8b/
CATEGORIES:經典版
END:VEVENT
BEGIN:VEVENT
DTSTART;TZID=Asia/Taipei:20260219T090000
DTEND;TZID=Asia/Taipei:20260401T040000
DTSTAMP:20260423T203256
CREATED:20260326T120014Z
LAST-MODIFIED:20260402T143643Z
UID:827-1771491600-1775016000@uvl3.com
SUMMARY:說話的卷軸
DESCRIPTION:說話的卷軸 \n\n說話的卷軸
URL:https://uvl3.com/event/%e8%aa%aa%e8%a9%b1%e7%9a%84%e5%8d%b7%e8%bb%b8/
CATEGORIES:經典版
END:VEVENT
BEGIN:VEVENT
DTSTART;TZID=Asia/Taipei:20260225T090000
DTEND;TZID=Asia/Taipei:20260318T040000
DTSTAMP:20260423T203256
CREATED:20260326T091747Z
LAST-MODIFIED:20260329T034558Z
UID:822-1772010000-1773806400@uvl3.com
SUMMARY:海音篇章前夜祭
DESCRIPTION:> 海音篇章前夜祭 \n\n\n\n消耗品袋子\n\n\n\n輕量變形卷軸\n\n\n\n龍銅像\n\n\n\n守護戒指
URL:https://uvl3.com/event/%e6%b5%b7%e9%9f%b3%e7%af%87%e7%ab%a0%e5%89%8d%e5%a4%9c%e7%a5%ad/
CATEGORIES:經典版
ATTACH;FMTTYPE=image/png:https://uvl3.com/wp-content/uploads/2026/03/illustration-heine-2.png
END:VEVENT
BEGIN:VEVENT
DTSTART;TZID=Asia/Taipei:20260311T090000
DTEND;TZID=Asia/Taipei:20260318T040000
DTSTAMP:20260423T203256
CREATED:20260325T162225Z
LAST-MODIFIED:20260402T143425Z
UID:806-1773219600-1773806400@uvl3.com
SUMMARY:糖妖精的白色情人節
DESCRIPTION:> 糖妖精的遊樂場 \n\n傳遞愛情的巧克力\n\n\n\n糖結晶體\n\n\n\n輕量紅色藥水\n\n\n\n輕量自我加速藥水\n\n\n\n輕量變形卷軸\n\n\n\n檸檬糖果(AC)\n\n\n\n薄荷糖果(命中)\n\n\n\n草莓糖果(MP恢復)\n\n\n\n白色情人節棒棒糖\n\n\n\n矮人的齒輪(1小時)
URL:https://uvl3.com/event/%e7%b3%96%e5%a6%96%e7%b2%be%e7%9a%84%e7%99%bd%e8%89%b2%e6%83%85%e4%ba%ba%e7%af%80/
CATEGORIES:經典版
ATTACH;FMTTYPE=image/png:https://uvl3.com/wp-content/uploads/2026/03/event-2026-white-day.png
END:VEVENT
BEGIN:VEVENT
DTSTART;TZID=Asia/Taipei:20260311T090000
DTEND;TZID=Asia/Taipei:20260408T040000
DTSTAMP:20260423T203256
CREATED:20260325T155922Z
LAST-MODIFIED:20260329T012909Z
UID:799-1773219600-1775620800@uvl3.com
SUMMARY:海音Episode紀念網咖畢克斯的羽毛
DESCRIPTION:> 2026. 3. 11.(三) 維護後，最多可持有畢克斯的羽毛 400個。 \n> 增加畢克斯的羽毛商品 \n\n守護戒指\n守護項鍊\n老舊的身體皮帶\n老舊的精神腰帶\n老舊的靈魂皮帶\n\n> 增加網咖狩獵 \n\n墮落的祝福之地 (PC)\n沙漠地監 1樓~4樓 (PC)
URL:https://uvl3.com/event/%e6%b5%b7%e9%9f%b3episode%e7%b4%80%e5%bf%b5%e7%b6%b2%e5%92%96%e7%95%a2%e5%85%8b%e6%96%af%e7%9a%84%e7%be%bd%e6%af%9b/
CATEGORIES:經典版
ATTACH;FMTTYPE=image/png:https://uvl3.com/wp-content/uploads/2026/03/illustration-heine-1.png
END:VEVENT
END:VCALENDAR